Package: DepecheR Version: 1.22.0 Command: rm -rf DepecheR.buildbin-libdir && mkdir DepecheR.buildbin-libdir && /Users/biocbuild/BBS/utils/build-universal.sh DepecheR_1.22.0.tar.gz /Library/Frameworks/R.framework/Resources/bin/R DepecheR.buildbin-libdir StartedAt: 2025-02-04 12:48:59 -0500 (Tue, 04 Feb 2025) EndedAt: 2025-02-04 12:50:01 -0500 (Tue, 04 Feb 2025) EllapsedTime: 62.0 seconds RetCode: 0 Status: OK PackageFile: DepecheR_1.22.0.tgz PackageFileSize: 2.746 MiB