Package: DepecheR Version: 1.22.0 Command: /Library/Frameworks/R.framework/Resources/bin/R CMD INSTALL DepecheR StartedAt: 2025-02-03 16:01:28 -0500 (Mon, 03 Feb 2025) EndedAt: 2025-02-03 16:02:25 -0500 (Mon, 03 Feb 2025) EllapsedTime: 57.0 seconds RetCode: 0 Status: OK