Package: DepecheR Version: 1.22.0 Command: rm -rf DepecheR.buildbin-libdir && mkdir DepecheR.buildbin-libdir && F:\biocbuild\bbs-3.20-bioc\R\bin\R.exe CMD INSTALL --build --library=DepecheR.buildbin-libdir DepecheR_1.22.0.tar.gz StartedAt: 2025-02-04 08:21:51 -0500 (Tue, 04 Feb 2025) EndedAt: 2025-02-04 08:22:34 -0500 (Tue, 04 Feb 2025) EllapsedTime: 43.2 seconds RetCode: 0 Status: OK PackageFile: DepecheR_1.22.0.zip PackageFileSize: 3.047 MiB