Package: DepecheR Version: 1.22.0 Command: F:\biocbuild\bbs-3.20-bioc\R\bin\R.exe CMD INSTALL DepecheR StartedAt: 2025-02-03 15:53:56 -0500 (Mon, 03 Feb 2025) EndedAt: 2025-02-03 15:54:43 -0500 (Mon, 03 Feb 2025) EllapsedTime: 46.6 seconds RetCode: 0 Status: OK