Package: DepecheR Version: 1.22.0 Command: /home/biocbuild/R/R/bin/R CMD build --keep-empty-dirs --no-resave-data DepecheR StartedAt: 2025-02-03 23:08:46 -0000 (Mon, 03 Feb 2025) EndedAt: 2025-02-03 23:10:16 -0000 (Mon, 03 Feb 2025) EllapsedTime: 90.0 seconds RetCode: 1 Status: ERROR PackageFile: None PackageFileSize: NA