Package: DiffBind
Version: 3.16.0
Command: rm -rf DiffBind.buildbin-libdir && mkdir DiffBind.buildbin-libdir && /Users/biocbuild/BBS/utils/build-universal.sh DiffBind_3.16.0.tar.gz /Library/Frameworks/R.framework/Resources/bin/R DiffBind.buildbin-libdir
StartedAt: 2024-11-09 16:46:28 -0500 (Sat, 09 Nov 2024)
EndedAt: 2024-11-09 16:46:58 -0500 (Sat, 09 Nov 2024)
EllapsedTime: 30.5 seconds
RetCode: 0
Status: OK
PackageFile: DiffBind_3.16.0.tgz
PackageFileSize: 7.051 <A href="http://en.wikipedia.org/wiki/MiB" target="_blank">MiB</A>