Package: DiffBind Version: 3.16.0 Command: /Library/Frameworks/R.framework/Resources/bin/R CMD INSTALL DiffBind StartedAt: 2025-02-03 16:02:35 -0500 (Mon, 03 Feb 2025) EndedAt: 2025-02-03 16:05:21 -0500 (Mon, 03 Feb 2025) EllapsedTime: 166.3 seconds RetCode: 0 Status: OK