Package: DiffBind Version: 3.16.0 Command: /home/biocbuild/bbs-3.20-bioc/R/bin/R CMD check --install=check:DiffBind.install-out.txt --library=/home/biocbuild/bbs-3.20-bioc/R/site-library --timings DiffBind_3.16.0.tar.gz StartedAt: 2025-02-03 21:49:47 -0500 (Mon, 03 Feb 2025) EndedAt: 2025-02-03 22:01:24 -0500 (Mon, 03 Feb 2025) EllapsedTime: 696.6 seconds RetCode: 0 Status: OK CheckDir: DiffBind.Rcheck Warnings: 0