Package: DiffBind Version: 3.16.0 Command: /home/biocbuild/bbs-3.20-bioc/R/bin/R CMD INSTALL DiffBind StartedAt: 2025-02-03 15:40:57 -0500 (Mon, 03 Feb 2025) EndedAt: 2025-02-03 15:42:12 -0500 (Mon, 03 Feb 2025) EllapsedTime: 75.2 seconds RetCode: 0 Status: OK