Package: DiffBind Version: 3.16.0 Command: /home/biocbuild/R/R/bin/R CMD build --keep-empty-dirs --no-resave-data DiffBind StartedAt: 2025-02-03 23:11:44 -0000 (Mon, 03 Feb 2025) EndedAt: 2025-02-03 23:16:30 -0000 (Mon, 03 Feb 2025) EllapsedTime: 285.1 seconds RetCode: 0 Status: OK PackageFile: DiffBind_3.16.0.tar.gz PackageFileSize: 6.473 MiB