Package: DiffLogo
Version: 2.29.0
Command: rm -rf DiffLogo.buildbin-libdir && mkdir DiffLogo.buildbin-libdir && C:\Users\biocbuild\bbs-3.20-bioc\R\bin\R.exe CMD INSTALL --build --library=DiffLogo.buildbin-libdir DiffLogo_2.29.0.tar.gz
StartedAt: 2024-07-16 06:07:22 -0400 (Tue, 16 Jul 2024)
EndedAt: 2024-07-16 06:07:32 -0400 (Tue, 16 Jul 2024)
EllapsedTime: 10.4 seconds
RetCode: 0
Status: OK
PackageFile: DiffLogo_2.29.0.zip
PackageFileSize: 978.2 <A href="http://en.wikipedia.org/wiki/KiB" target="_blank">KiB</A>