Package: DiffLogo Version: 2.30.0 Command: chmod a+r DiffLogo -R && F:\biocbuild\bbs-3.20-bioc\R\bin\R.exe CMD build --keep-empty-dirs --no-resave-data DiffLogo StartedAt: 2025-02-03 18:42:02 -0500 (Mon, 03 Feb 2025) EndedAt: 2025-02-03 18:43:15 -0500 (Mon, 03 Feb 2025) EllapsedTime: 72.3 seconds RetCode: 0 Status: OK PackageFile: DiffLogo_2.30.0.tar.gz PackageFileSize: 817.1 KiB