Package: DifferentialRegulation Version: 2.4.0 Command: /Library/Frameworks/R.framework/Resources/bin/R CMD INSTALL DifferentialRegulation StartedAt: 2025-02-03 15:53:40 -0500 (Mon, 03 Feb 2025) EndedAt: 2025-02-03 15:55:19 -0500 (Mon, 03 Feb 2025) EllapsedTime: 99.2 seconds RetCode: 0 Status: OK