Package: DifferentialRegulation Version: 2.4.0 Command: /home/biocbuild/bbs-3.20-bioc/R/bin/R CMD INSTALL DifferentialRegulation StartedAt: 2025-01-30 15:26:59 -0500 (Thu, 30 Jan 2025) EndedAt: 2025-01-30 15:27:49 -0500 (Thu, 30 Jan 2025) EllapsedTime: 50.8 seconds RetCode: 0 Status: OK