Package: DifferentialRegulation Version: 2.4.0 Command: chmod a+r DifferentialRegulation -R && F:\biocbuild\bbs-3.20-bioc\R\bin\R.exe CMD build --keep-empty-dirs --no-resave-data DifferentialRegulation StartedAt: 2025-01-30 18:26:31 -0500 (Thu, 30 Jan 2025) EndedAt: 2025-01-30 18:30:49 -0500 (Thu, 30 Jan 2025) EllapsedTime: 257.9 seconds RetCode: 0 Status: OK PackageFile: DifferentialRegulation_2.4.0.tar.gz PackageFileSize: 2.414 MiB