Package: DifferentialRegulation Version: 2.4.0 Command: /home/biocbuild/R/R/bin/R CMD build --keep-empty-dirs --no-resave-data DifferentialRegulation StartedAt: 2025-02-03 23:12:12 -0000 (Mon, 03 Feb 2025) EndedAt: 2025-02-03 23:52:13 -0000 (Mon, 03 Feb 2025) EllapsedTime: 2401.0 seconds RetCode: None Status: TIMEOUT PackageFile: None PackageFileSize: NA