Package: DifferentialRegulation Version: 2.4.0 Command: /home/biocbuild/R/R/bin/R CMD INSTALL DifferentialRegulation StartedAt: 2025-02-03 20:48:50 -0000 (Mon, 03 Feb 2025) EndedAt: 2025-02-03 20:49:59 -0000 (Mon, 03 Feb 2025) EllapsedTime: 69.1 seconds RetCode: 0 Status: OK