Package: Dino
Version: 1.12.0
Command: /home/biocbuild/R/R/bin/R CMD INSTALL Dino
StartedAt: 2024-11-19 21:25:33 -0000 (Tue, 19 Nov 2024)
EndedAt: 2024-11-19 21:26:32 -0000 (Tue, 19 Nov 2024)
EllapsedTime: 59.3 seconds
RetCode: 0
Status: OK