Package: Dino Version: 1.12.0 Command: /home/biocbuild/R/R/bin/R CMD check --install=check:Dino.install-out.txt --library=/home/biocbuild/R/R/site-library --no-vignettes --timings Dino_1.12.0.tar.gz StartedAt: 2025-02-04 06:28:06 -0000 (Tue, 04 Feb 2025) EndedAt: 2025-02-04 06:35:40 -0000 (Tue, 04 Feb 2025) EllapsedTime: 453.7 seconds RetCode: 0 Status: OK CheckDir: Dino.Rcheck Warnings: 0