Package: Director Version: 1.32.0 Command: /Library/Frameworks/R.framework/Resources/bin/R CMD build --keep-empty-dirs --no-resave-data Director StartedAt: 2025-02-03 22:40:10 -0500 (Mon, 03 Feb 2025) EndedAt: 2025-02-03 22:40:26 -0500 (Mon, 03 Feb 2025) EllapsedTime: 15.9 seconds RetCode: 0 Status: OK PackageFile: Director_1.32.0.tar.gz PackageFileSize: 695.1 KiB