Package: Director Version: 1.32.0 Command: /Library/Frameworks/R.framework/Resources/bin/R CMD INSTALL Director StartedAt: 2025-02-03 16:17:09 -0500 (Mon, 03 Feb 2025) EndedAt: 2025-02-03 16:17:13 -0500 (Mon, 03 Feb 2025) EllapsedTime: 4.2 seconds RetCode: 0 Status: OK