Package: DirichletMultinomial Version: 1.48.0 Command: /Library/Frameworks/R.framework/Resources/bin/R CMD build --keep-empty-dirs --no-resave-data DirichletMultinomial StartedAt: 2025-02-03 18:34:12 -0500 (Mon, 03 Feb 2025) EndedAt: 2025-02-03 18:35:00 -0500 (Mon, 03 Feb 2025) EllapsedTime: 47.7 seconds RetCode: 0 Status: OK PackageFile: DirichletMultinomial_1.48.0.tar.gz PackageFileSize: 1.061 MiB