Package: DirichletMultinomial Version: 1.48.0 Command: /Library/Frameworks/R.framework/Resources/bin/R CMD check --install=check:DirichletMultinomial.install-out.txt --library=/Library/Frameworks/R.framework/Resources/library --no-vignettes --timings DirichletMultinomial_1.48.0.tar.gz StartedAt: 2025-02-04 02:52:24 -0500 (Tue, 04 Feb 2025) EndedAt: 2025-02-04 02:54:36 -0500 (Tue, 04 Feb 2025) EllapsedTime: 132.8 seconds RetCode: 0 Status: OK CheckDir: DirichletMultinomial.Rcheck Warnings: 0