Package: DirichletMultinomial Version: 1.48.0 Command: /home/biocbuild/R/R/bin/R CMD build --keep-empty-dirs --no-resave-data DirichletMultinomial StartedAt: 2025-02-03 23:13:48 -0000 (Mon, 03 Feb 2025) EndedAt: 2025-02-03 23:14:09 -0000 (Mon, 03 Feb 2025) EllapsedTime: 21.0 seconds RetCode: 0 Status: OK PackageFile: DirichletMultinomial_1.48.0.tar.gz PackageFileSize: 845.8 KiB