Package: DirichletMultinomial Version: 1.48.0 Command: /home/biocbuild/R/R/bin/R CMD check --install=check:DirichletMultinomial.install-out.txt --library=/home/biocbuild/R/R/site-library --no-vignettes --timings DirichletMultinomial_1.48.0.tar.gz StartedAt: 2025-02-04 06:29:04 -0000 (Tue, 04 Feb 2025) EndedAt: 2025-02-04 06:30:06 -0000 (Tue, 04 Feb 2025) EllapsedTime: 62.1 seconds RetCode: 0 Status: WARNINGS CheckDir: DirichletMultinomial.Rcheck Warnings: 1