Package: DirichletMultinomial Version: 1.48.0 Command: /home/biocbuild/R/R/bin/R CMD INSTALL DirichletMultinomial StartedAt: 2025-02-03 20:26:29 -0000 (Mon, 03 Feb 2025) EndedAt: 2025-02-03 20:26:55 -0000 (Mon, 03 Feb 2025) EllapsedTime: 26.1 seconds RetCode: 0 Status: OK