Package: DiscoRhythm Version: 1.22.0 Command: /Library/Frameworks/R.framework/Resources/bin/R CMD check --install=check:DiscoRhythm.install-out.txt --library=/Library/Frameworks/R.framework/Resources/library --no-vignettes --timings DiscoRhythm_1.22.0.tar.gz StartedAt: 2025-02-04 18:13:53 -0500 (Tue, 04 Feb 2025) EndedAt: 2025-02-04 18:17:33 -0500 (Tue, 04 Feb 2025) EllapsedTime: 219.8 seconds RetCode: 0 Status: OK CheckDir: DiscoRhythm.Rcheck Warnings: 0