Package: DiscoRhythm Version: 1.22.0 Command: /home/biocbuild/bbs-3.20-bioc/R/bin/R CMD check --install=check:DiscoRhythm.install-out.txt --library=/home/biocbuild/bbs-3.20-bioc/R/site-library --timings DiscoRhythm_1.22.0.tar.gz StartedAt: 2025-02-03 21:53:18 -0500 (Mon, 03 Feb 2025) EndedAt: 2025-02-03 21:56:55 -0500 (Mon, 03 Feb 2025) EllapsedTime: 217.2 seconds RetCode: 0 Status: OK CheckDir: DiscoRhythm.Rcheck Warnings: 0