Package: DiscoRhythm Version: 1.22.0 Command: /home/biocbuild/bbs-3.20-bioc/R/bin/R CMD INSTALL DiscoRhythm StartedAt: 2025-01-30 16:02:23 -0500 (Thu, 30 Jan 2025) EndedAt: 2025-01-30 16:02:47 -0500 (Thu, 30 Jan 2025) EllapsedTime: 24.5 seconds RetCode: 0 Status: OK