Package: DiscoRhythm Version: 1.22.0 Command: chmod a+r DiscoRhythm -R && F:\biocbuild\bbs-3.20-bioc\R\bin\R.exe CMD build --keep-empty-dirs --no-resave-data DiscoRhythm StartedAt: 2025-01-30 18:28:59 -0500 (Thu, 30 Jan 2025) EndedAt: 2025-01-30 18:30:11 -0500 (Thu, 30 Jan 2025) EllapsedTime: 71.9 seconds RetCode: 0 Status: OK PackageFile: DiscoRhythm_1.22.0.tar.gz PackageFileSize: 2.522 MiB