Package: DiscoRhythm Version: 1.22.0 Command: F:\biocbuild\bbs-3.20-bioc\R\bin\R.exe CMD INSTALL DiscoRhythm StartedAt: 2025-02-03 17:13:57 -0500 (Mon, 03 Feb 2025) EndedAt: 2025-02-03 17:14:47 -0500 (Mon, 03 Feb 2025) EllapsedTime: 50.3 seconds RetCode: 0 Status: OK