Package: DiscoRhythm Version: 1.22.0 Command: /home/biocbuild/R/R/bin/R CMD check --install=check:DiscoRhythm.install-out.txt --library=/home/biocbuild/R/R/site-library --no-vignettes --timings DiscoRhythm_1.22.0.tar.gz StartedAt: 2025-02-04 06:29:20 -0000 (Tue, 04 Feb 2025) EndedAt: 2025-02-04 06:33:29 -0000 (Tue, 04 Feb 2025) EllapsedTime: 248.4 seconds RetCode: 0 Status: OK CheckDir: DiscoRhythm.Rcheck Warnings: 0