Package: DiscoRhythm Version: 1.22.0 Command: /home/biocbuild/bbs-3.20-bioc/R/bin/R CMD check --install=check:DiscoRhythm.install-out.txt --library=/home/biocbuild/bbs-3.20-bioc/R/site-library --timings DiscoRhythm_1.22.0.tar.gz StartedAt: 2024-11-20 01:59:18 -0500 (Wed, 20 Nov 2024) EndedAt: 2024-11-20 02:03:13 -0500 (Wed, 20 Nov 2024) EllapsedTime: 235.4 seconds RetCode: 0 Status: OK CheckDir: DiscoRhythm.Rcheck Warnings: 0