Package: Doscheda Version: 1.28.0 Command: chmod a+r Doscheda -R && F:\biocbuild\bbs-3.20-bioc\R\bin\R.exe CMD build --keep-empty-dirs --no-resave-data Doscheda StartedAt: 2025-02-03 18:46:14 -0500 (Mon, 03 Feb 2025) EndedAt: 2025-02-03 18:47:25 -0500 (Mon, 03 Feb 2025) EllapsedTime: 70.7 seconds RetCode: 0 Status: OK PackageFile: Doscheda_1.28.0.tar.gz PackageFileSize: 3.215 MiB