Package: Doscheda Version: 1.28.0 Command: F:\biocbuild\bbs-3.20-bioc\R\bin\R.exe CMD INSTALL Doscheda StartedAt: 2025-02-03 16:14:49 -0500 (Mon, 03 Feb 2025) EndedAt: 2025-02-03 16:15:32 -0500 (Mon, 03 Feb 2025) EllapsedTime: 43.5 seconds RetCode: 0 Status: OK