Package: Doscheda Version: 1.28.0 Command: /home/biocbuild/R/R/bin/R CMD build --keep-empty-dirs --no-resave-data Doscheda StartedAt: 2025-02-03 23:16:55 -0000 (Mon, 03 Feb 2025) EndedAt: 2025-02-03 23:17:48 -0000 (Mon, 03 Feb 2025) EllapsedTime: 53.0 seconds RetCode: 0 Status: OK PackageFile: Doscheda_1.28.0.tar.gz PackageFileSize: 3.279 MiB