Package: Doscheda Version: 1.28.0 Command: /home/biocbuild/R/R/bin/R CMD check --install=check:Doscheda.install-out.txt --library=/home/biocbuild/R/R/site-library --no-vignettes --timings Doscheda_1.28.0.tar.gz StartedAt: 2025-02-04 06:33:28 -0000 (Tue, 04 Feb 2025) EndedAt: 2025-02-04 06:36:25 -0000 (Tue, 04 Feb 2025) EllapsedTime: 177.2 seconds RetCode: 0 Status: OK CheckDir: Doscheda.Rcheck Warnings: 0