Package: DriverNet Version: 1.46.0 Command: /Library/Frameworks/R.framework/Resources/bin/R CMD build --keep-empty-dirs --no-resave-data DriverNet StartedAt: 2025-02-03 22:50:19 -0500 (Mon, 03 Feb 2025) EndedAt: 2025-02-03 22:51:02 -0500 (Mon, 03 Feb 2025) EllapsedTime: 42.4 seconds RetCode: 0 Status: OK PackageFile: DriverNet_1.46.0.tar.gz PackageFileSize: 1.116 MiB