Package: DropletUtils Version: 1.26.0 Command: rm -rf DropletUtils.buildbin-libdir && mkdir DropletUtils.buildbin-libdir && /Users/biocbuild/BBS/utils/build-universal.sh DropletUtils_1.26.0.tar.gz /Library/Frameworks/R.framework/Resources/bin/R DropletUtils.buildbin-libdir StartedAt: 2025-02-05 15:40:17 -0500 (Wed, 05 Feb 2025) EndedAt: 2025-02-05 15:41:30 -0500 (Wed, 05 Feb 2025) EllapsedTime: 72.2 seconds RetCode: 0 Status: OK PackageFile: DropletUtils_1.26.0.tgz PackageFileSize: 2.01 MiB