Package: DropletUtils Version: 1.26.0 Command: /Library/Frameworks/R.framework/Resources/bin/R CMD build --keep-empty-dirs --no-resave-data DropletUtils StartedAt: 2025-02-03 22:51:02 -0500 (Mon, 03 Feb 2025) EndedAt: 2025-02-03 22:52:33 -0500 (Mon, 03 Feb 2025) EllapsedTime: 91.2 seconds RetCode: 0 Status: OK PackageFile: DropletUtils_1.26.0.tar.gz PackageFileSize: 602.7 KiB