Package: DropletUtils Version: 1.26.0 Command: /Library/Frameworks/R.framework/Resources/bin/R CMD INSTALL DropletUtils StartedAt: 2025-02-03 16:09:37 -0500 (Mon, 03 Feb 2025) EndedAt: 2025-02-03 16:10:42 -0500 (Mon, 03 Feb 2025) EllapsedTime: 65.0 seconds RetCode: 0 Status: OK