Package: DropletUtils Version: 1.26.0 Command: /Library/Frameworks/R.framework/Resources/bin/R CMD check --install=check:DropletUtils.install-out.txt --library=/Library/Frameworks/R.framework/Resources/library --no-vignettes --timings DropletUtils_1.26.0.tar.gz StartedAt: 2025-02-04 03:03:30 -0500 (Tue, 04 Feb 2025) EndedAt: 2025-02-04 03:19:13 -0500 (Tue, 04 Feb 2025) EllapsedTime: 943.1 seconds RetCode: 0 Status: WARNINGS CheckDir: DropletUtils.Rcheck Warnings: 1