Package: DropletUtils Version: 1.26.0 Command: /Library/Frameworks/R.framework/Resources/bin/R CMD INSTALL DropletUtils StartedAt: 2025-02-03 15:43:50 -0500 (Mon, 03 Feb 2025) EndedAt: 2025-02-03 15:46:02 -0500 (Mon, 03 Feb 2025) EllapsedTime: 132.5 seconds RetCode: 0 Status: OK