Package: DropletUtils Version: 1.26.0 Command: /home/biocbuild/bbs-3.20-bioc/R/bin/R CMD INSTALL DropletUtils StartedAt: 2025-02-03 15:38:04 -0500 (Mon, 03 Feb 2025) EndedAt: 2025-02-03 15:39:08 -0500 (Mon, 03 Feb 2025) EllapsedTime: 63.8 seconds RetCode: 0 Status: OK