Package: DropletUtils Version: 1.26.0 Command: rm -rf DropletUtils.buildbin-libdir && mkdir DropletUtils.buildbin-libdir && F:\biocbuild\bbs-3.20-bioc\R\bin\R.exe CMD INSTALL --build --library=DropletUtils.buildbin-libdir DropletUtils_1.26.0.tar.gz StartedAt: 2025-02-04 08:24:45 -0500 (Tue, 04 Feb 2025) EndedAt: 2025-02-04 08:27:10 -0500 (Tue, 04 Feb 2025) EllapsedTime: 145.4 seconds RetCode: 0 Status: OK PackageFile: DropletUtils_1.26.0.zip PackageFileSize: 2.109 MiB