Package: DropletUtils Version: 1.26.0 Command: chmod a+r DropletUtils -R && F:\biocbuild\bbs-3.20-bioc\R\bin\R.exe CMD build --keep-empty-dirs --no-resave-data DropletUtils StartedAt: 2025-02-03 18:46:53 -0500 (Mon, 03 Feb 2025) EndedAt: 2025-02-03 18:49:08 -0500 (Mon, 03 Feb 2025) EllapsedTime: 134.7 seconds RetCode: 0 Status: OK PackageFile: DropletUtils_1.26.0.tar.gz PackageFileSize: 390.7 KiB