Package: DropletUtils Version: 1.26.0 Command: /home/biocbuild/R/R/bin/R CMD check --install=check:DropletUtils.install-out.txt --library=/home/biocbuild/R/R/site-library --no-vignettes --timings DropletUtils_1.26.0.tar.gz StartedAt: 2025-02-04 06:35:54 -0000 (Tue, 04 Feb 2025) EndedAt: 2025-02-04 06:44:08 -0000 (Tue, 04 Feb 2025) EllapsedTime: 493.8 seconds RetCode: 0 Status: WARNINGS CheckDir: DropletUtils.Rcheck Warnings: 1