Package: DrugVsDisease Version: 2.48.0 Command: /Library/Frameworks/R.framework/Resources/bin/R CMD build --keep-empty-dirs --no-resave-data DrugVsDisease StartedAt: 2025-01-30 22:57:34 -0500 (Thu, 30 Jan 2025) EndedAt: 2025-01-30 22:58:21 -0500 (Thu, 30 Jan 2025) EllapsedTime: 47.9 seconds RetCode: 0 Status: OK PackageFile: DrugVsDisease_2.48.0.tar.gz PackageFileSize: 1.829 MiB