Package: DrugVsDisease Version: 2.48.0 Command: /Library/Frameworks/R.framework/Resources/bin/R CMD check --install=check:DrugVsDisease.install-out.txt --library=/Library/Frameworks/R.framework/Resources/library --no-vignettes --timings DrugVsDisease_2.48.0.tar.gz StartedAt: 2025-01-31 18:06:20 -0500 (Fri, 31 Jan 2025) EndedAt: 2025-01-31 18:09:32 -0500 (Fri, 31 Jan 2025) EllapsedTime: 192.4 seconds RetCode: 1 Status: ERROR CheckDir: DrugVsDisease.Rcheck Warnings: NA