Package: DrugVsDisease Version: 2.48.0 Command: /Library/Frameworks/R.framework/Resources/bin/R CMD INSTALL DrugVsDisease StartedAt: 2025-01-30 16:29:58 -0500 (Thu, 30 Jan 2025) EndedAt: 2025-01-30 16:30:40 -0500 (Thu, 30 Jan 2025) EllapsedTime: 42.8 seconds RetCode: 0 Status: OK